View In:
ArcGIS JavaScript
ArcGIS Online Map Viewer
ArcGIS Earth
ArcMap
View Footprint In:
ArcGIS Online Map Viewer
Service Description: 土壤变量施肥/增城N含量预测分布
Name: 土壤变量施肥/增城N含量预测分布
Description:
Single Fused Map Cache: false
Extent:
XMin: 113.81706199999999
YMin: 23.445463000000004
XMax: 113.81934199999999
YMax: 23.448893
Spatial Reference: 4326
(4326)
Initial Extent:
XMin: 113.81706199999999
YMin: 23.445463000000004
XMax: 113.81934199999999
YMax: 23.448893
Spatial Reference: 4326
(4326)
Full Extent:
XMin: 113.81706199999999
YMin: 23.445463000000004
XMax: 113.81934199999999
YMax: 23.448893
Spatial Reference: 4326
(4326)
Pixel Size X: 9.999999999995393E-6
Pixel Size Y: 9.999999999994302E-6
Band Count: 1
Pixel Type: F32
RasterFunction Infos: {"rasterFunctionInfos": [{
"name": "None",
"description": "",
"help": ""
}]}
Mensuration Capabilities: Basic
Has Histograms: false
Has Colormap: false
Has Multi Dimensions : false
Rendering Rule:
Min Scale: 0
Max Scale: 0
Copyright Text:
Service Data Type: esriImageServiceDataTypeGeneric
Min Values: 0.65458869934082
Max Values: 0.9625284075737
Mean Values: 0.81415180069752
Standard Deviation Values: 0.075061777302977
Object ID Field:
Fields:
None
Default Mosaic Method: Center
Allowed Mosaic Methods:
SortField:
SortValue: null
Mosaic Operator: First
Default Compression Quality: 75
Default Resampling Method: Bilinear
Max Record Count: null
Max Image Height: 4100
Max Image Width: 15000
Max Download Image Count: null
Max Mosaic Image Count: null
Allow Raster Function: true
Allow Copy: null
Allow Analysis: null
Allow Compute TiePoints: false
Supports Statistics: false
Supports Advanced Queries: false
Use StandardizedQueries: true
Raster Type Infos:
Name: Raster Dataset
Description: Supports all ArcGIS Raster Datasets
Help:
Has Raster Attribute Table: false
Edit Fields Info: null
Ownership Based AccessControl For Rasters: null
Child Resources:
Info
Key Properties
Legend
Raster Function Infos
Supported Operations:
Export Image
Identify
Measure
Compute Histograms
Compute Statistics Histograms
Get Samples
Compute Class Statistics
Query Boundary
Compute Pixel Location
Validate
Project