View In:
ArcGIS JavaScript
ArcGIS Online Map Viewer
ArcGIS Earth
ArcMap
ArcGIS Pro
View Footprint In:
ArcGIS Online Map Viewer
Service Description:
Map Name: 地图
Legend
All Layers and Tables
Layers:
Description:
Service Item Id: 4a682291c9c44d7a90a08de4ad53a69c
Copyright Text:
Spatial Reference:
102100
(3857)
Single Fused Map Cache: true
Tile Info:
- Height: 256
- Width: 256
- DPI: 96
-
Levels of Detail: 24
-
Level ID: 1
[ Start Tile, End Tile ]
- Resolution: 78271.5169639999
- Scale: 2.95828763795777E8
-
Level ID: 2
[ Start Tile, End Tile ]
- Resolution: 39135.7584820001
- Scale: 1.47914381897889E8
-
Level ID: 3
[ Start Tile, End Tile ]
- Resolution: 19567.8792409999
- Scale: 7.3957190948944E7
-
Level ID: 4
[ Start Tile, End Tile ]
- Resolution: 9783.93962049996
- Scale: 3.6978595474472E7
-
Level ID: 5
[ Start Tile, End Tile ]
- Resolution: 4891.96981024998
- Scale: 1.8489297737236E7
- Format: Mixed
- Compression Quality: 75.0
- Origin: X: -2.0037508342787E7
Y: 2.0037508342787E7
- Spatial Reference: 102100
(3857)
Initial Extent:
XMin: 1.2669801003388375E7
YMin: 2686031.212465002
XMax: 1.2670497125546739E7
YMax: 2686580.782590027
Spatial Reference: 102100
Full Extent:
XMin: 1.2669509567852808E7
YMin: 2685768.8292288277
XMax: 1.2670563595710546E7
YMax: 2686578.444290866
Spatial Reference: 102100
Units: esriMeters
Supported Image Format Types: PNG32,PNG24,PNG,JPG,DIB,TIFF,EMF,PS,PDF,GIF,SVG,SVGZ,BMP
Document Info:
Title: 地图
Author:
Comments:
Subject:
Category:
Keywords:
AntialiasingMode: Fast
TextAntialiasingMode: Force
Supports Dynamic Layers: false
MaxRecordCount: 1000
MaxImageHeight: 4096
MaxImageWidth: 4096
Supported Query Formats: JSON, geoJSON, PBF
Supports Query Data Elements: true
Min Scale: 9027.977411
Max Scale: 4513.988705
Supports Datum Transformation: true
Child Resources:
Info
Supported Operations:
Return Updates